BEGIN:VCALENDAR
VERSION:2.0
PRODID:-//Haridham Maryland | Yogi Divine Society - ECPv6.15.14//NONSGML v1.0//EN
CALSCALE:GREGORIAN
METHOD:PUBLISH
X-WR-CALNAME:Haridham Maryland | Yogi Divine Society
X-ORIGINAL-URL:https://haridhammd.org
X-WR-CALDESC:Events for Haridham Maryland | Yogi Divine Society
REFRESH-INTERVAL;VALUE=DURATION:PT1H
X-Robots-Tag:noindex
X-PUBLISHED-TTL:PT1H
BEGIN:VTIMEZONE
TZID:America/New_York
BEGIN:DAYLIGHT
TZOFFSETFROM:-0500
TZOFFSETTO:-0400
TZNAME:EDT
DTSTART:20240310T070000
END:DAYLIGHT
BEGIN:STANDARD
TZOFFSETFROM:-0400
TZOFFSETTO:-0500
TZNAME:EST
DTSTART:20241103T060000
END:STANDARD
BEGIN:DAYLIGHT
TZOFFSETFROM:-0500
TZOFFSETTO:-0400
TZNAME:EDT
DTSTART:20250309T070000
END:DAYLIGHT
BEGIN:STANDARD
TZOFFSETFROM:-0400
TZOFFSETTO:-0500
TZNAME:EST
DTSTART:20251102T060000
END:STANDARD
BEGIN:DAYLIGHT
TZOFFSETFROM:-0500
TZOFFSETTO:-0400
TZNAME:EDT
DTSTART:20260308T070000
END:DAYLIGHT
BEGIN:STANDARD
TZOFFSETFROM:-0400
TZOFFSETTO:-0500
TZNAME:EST
DTSTART:20261101T060000
END:STANDARD
END:VTIMEZONE
BEGIN:VTIMEZONE
TZID:America/New_York
BEGIN:DAYLIGHT
TZOFFSETFROM:-0500
TZOFFSETTO:-0400
TZNAME:EDT
DTSTART:20240310T070000
END:DAYLIGHT
BEGIN:STANDARD
TZOFFSETFROM:-0400
TZOFFSETTO:-0500
TZNAME:EST
DTSTART:20241103T060000
END:STANDARD
BEGIN:DAYLIGHT
TZOFFSETFROM:-0500
TZOFFSETTO:-0400
TZNAME:EDT
DTSTART:20250309T070000
END:DAYLIGHT
BEGIN:STANDARD
TZOFFSETFROM:-0400
TZOFFSETTO:-0500
TZNAME:EST
DTSTART:20251102T060000
END:STANDARD
BEGIN:DAYLIGHT
TZOFFSETFROM:-0500
TZOFFSETTO:-0400
TZNAME:EDT
DTSTART:20260308T070000
END:DAYLIGHT
BEGIN:STANDARD
TZOFFSETFROM:-0400
TZOFFSETTO:-0500
TZNAME:EST
DTSTART:20261101T060000
END:STANDARD
END:VTIMEZONE
BEGIN:VEVENT
DTSTART;TZID=America/New_York:20250525T163000
DTEND;TZID=America/New_York:20250525T183000
DTSTAMP:20260423T044137
CREATED:20250125T180443Z
LAST-MODIFIED:20251231T025005Z
UID:1316-1748190600-1748197800@haridhammd.org
SUMMARY:Hariprasad Swamiji Janma Jayanti
DESCRIPTION:We invite you to join us in celebrating the Janma Jayanti of Sadhu Hariprasad Swamiji\, a day to honor his life and profound teachings. Swamiji dedicated himself to fostering the principle of Atmiyata (spiritual affinity)\, which encompasses values like Samp (simplicity)\, Suhradbhav (compassion)\, and Ekta (unity). His life was a shining example of how to live harmoniously with others through selfless love and devotion. His guiding mantra was\, “O Lord! Whether the other person becomes Atmiya or not\, please make me Atmiya\,” a reminder that true devotion lies in maintaining spiritual harmony no matter the circumstances. \nThanks to his divine grace\, Swamiji has inspired thousands of youths to live lives of piety\, free from vices. His teachings\, grounded in the principles of Lord Swaminarayan\, have shaped our community to live with sincerity and humility\, without artificial persuasion. As we come together to celebrate\, let’s reflect on the lasting impact he’s had on each of us and the world. We look forward to sharing this special day with you! \nPlease join us from 4:30 pm to 6:30 pm\, followed by aarti and prasad. \n 
URL:https://haridhammd.org/event/25hariprasad-swamiji-janma-jayanti/
CATEGORIES:Event
ATTACH;FMTTYPE=image/jpeg:https://haridhammd.org/wp-content/uploads/2025/05/8.jpg
END:VEVENT
BEGIN:VEVENT
DTSTART;TZID=America/New_York:20250413T163000
DTEND;TZID=America/New_York:20250413T183000
DTSTAMP:20260423T044137
CREATED:20240413T134518Z
LAST-MODIFIED:20251231T025001Z
UID:1315-1744561800-1744569000@haridhammd.org
SUMMARY:Hanuman Jayanti
DESCRIPTION:We warmly invite you to join us in celebrating Hanuman Jayanti\, a special day honoring the birth of Lord Hanuman\, the symbol of strength\, courage\, and pure devotion. Hanuman’s relationship with Lord Rama is truly inspiring—he was not just a servant\, but Rama’s most loyal companion\, always ready to go to any length to help him. Whether it was flying across oceans or bringing mountains to save his friends\, Hanuman showed us the power of selfless love and faith. On this day\, let’s come together to celebrate his life\, his incredible acts of devotion\, and the values he teaches us—humility\, dedication\, and unwavering loyalty. \n\nPlease join us from 4:30pm to 6:30pm\, followed by aarti and prasad. \n\n\n\n\n\n 
URL:https://haridhammd.org/event/25hanuman-jayanti/
LOCATION:Haridham Hindu Swaminarayan Temple\, 3589 Centennial Lane\, Ellicott City\, MD\, 21042\, United States
CATEGORIES:Event
ATTACH;FMTTYPE=image/jpeg:https://haridhammd.org/wp-content/uploads/2025/03/6.jpg
ORGANIZER;CN="Haridham":MAILTO:info@haridhammd.org
END:VEVENT
BEGIN:VEVENT
DTSTART;TZID=America/New_York:20250406T043000
DTEND;TZID=America/New_York:20250406T183000
DTSTAMP:20260423T044137
CREATED:20240406T134452Z
LAST-MODIFIED:20251231T024956Z
UID:1314-1743913800-1743964200@haridhammd.org
SUMMARY:Ramnavami
DESCRIPTION:Join us in celebrating the auspicious occasion of Ram Navami\, which commemorates the divine birth of Lord Rama\, the embodiment of virtue\, righteousness\, and devotion. Lord Rama\, as the hero of the Ramayana\, serves as an eternal guide for living a life of truth and dharma. His birth signifies the triumph of good over evil and the restoration of cosmic balance. \nOn this special day\, we come together to reflect on the teachings of Lord Rama and to honor his virtues of courage\, humility\, and unwavering devotion to duty. Through prayers\, recitations of the Ramayana\, and festive rituals\, we celebrate his divine presence in our lives. \nPlease join us from 4:30 pm to 6:30 pm\, followed by aarti and prasad. \n 
URL:https://haridhammd.org/event/25ramnavami/
LOCATION:Haridham Hindu Swaminarayan Temple\, 3589 Centennial Lane\, Ellicott City\, MD\, 21042\, United States
CATEGORIES:Event
ATTACH;FMTTYPE=image/jpeg:https://haridhammd.org/wp-content/uploads/2025/03/5.jpg
ORGANIZER;CN="Haridham":MAILTO:info@haridhammd.org
END:VEVENT
BEGIN:VEVENT
DTSTART;TZID=America/New_York:20250313T180000
DTEND;TZID=America/New_York:20250313T193000
DTSTAMP:20260423T044137
CREATED:20240313T055617Z
LAST-MODIFIED:20251231T024950Z
UID:1309-1741888800-1741894200@haridhammd.org
SUMMARY:Holika Dahan
DESCRIPTION:Holika Dahan is a special day for Hindus. This day signifies the triumph of good over evil\, as it commemorates the victory of god Vishnu as Narasimha Narayana over Hiranyakashipu.  \nPlease join us on March 13\, 2025 to celebrate this day with us! \nHolika Dahan – 6:00 PM \nColor Festival – 6:15 PM* \n*Please bring a pair of clothes that can be stained with Holi color powder.
URL:https://haridhammd.org/event/25holi/
LOCATION:Haridham Hindu Swaminarayan Temple\, 3589 Centennial Lane\, Ellicott City\, MD\, 21042\, United States
CATEGORIES:Event
ATTACH;FMTTYPE=image/jpeg:https://haridhammd.org/wp-content/uploads/2025/01/Event-Graphics-for-Website-1.jpg
ORGANIZER;CN="Haridham":MAILTO:info@haridhammd.org
END:VEVENT
BEGIN:VEVENT
DTSTART;TZID=America/New_York:20250226T190000
DTEND;TZID=America/New_York:20250226T203000
DTSTAMP:20260423T044137
CREATED:20240226T054909Z
LAST-MODIFIED:20251231T024938Z
UID:1308-1740596400-1740601800@haridhammd.org
SUMMARY:Shivratri
DESCRIPTION:Join us in celebrating the auspicious occasion of Shivratri\, a notable festival in Hinduism\, marking a remembrance of “overcoming darkness and ignorance” in life and the world. It is observed by remembering Shiva and chanting prayers\, fasting\, and meditating on ethics and virtues such as honesty\, non-injury to others\, charity\, forgiveness\, and the discovery of Shiva. Ardent devotees stay awake throughout this night. \nPlease join us for an evening of offering our bhakti to Lord Shiva.
URL:https://haridhammd.org/event/25shivratri/
CATEGORIES:Event
ATTACH;FMTTYPE=image/jpeg:https://haridhammd.org/wp-content/uploads/2025/01/3.jpg
END:VEVENT
BEGIN:VEVENT
DTSTART;TZID=America/New_York:20250202T163000
DTEND;TZID=America/New_York:20250202T183000
DTSTAMP:20260423T044137
CREATED:20240202T232359Z
LAST-MODIFIED:20251231T024941Z
UID:1307-1738513800-1738521000@haridhammd.org
SUMMARY:Vasant Panchami
DESCRIPTION:  \nJoin us in celebrating the auspicious occasion of Vasant Panchmi\, which marks the unveiling of the Shikshapatri by Bhagwan Shree Swaminarayan\, as well as the birth of Shastriji Maharaj. The Shikshapatri\, a sacred scripture of 212 Sanskrit verses\, offers\, a comprehensive guide for living a virtuous life and attaining moksha. Written for the welfare of all beings\, it establishes a universal code of conduct that encompasses personal ethics\, social responsibility\, and spiritual wisdom. On this special day\, we also honor the divine mission of Shastriji Maharaj\, who emphasized the importance of Akshar Purushottam Upasana and the presence of a Gunatit Sant in our lives. \nPlease join us from 4:30 pm to 6:30 pm\, followed by aarti and prasad. \n 
URL:https://haridhammd.org/event/25vasant-panchami/
CATEGORIES:Event
ATTACH;FMTTYPE=image/jpeg:https://haridhammd.org/wp-content/uploads/2025/01/Event-Graphics-for-Website.jpg
END:VEVENT
BEGIN:VEVENT
DTSTART;TZID=America/New_York:20250112T163000
DTEND;TZID=America/New_York:20250112T183000
DTSTAMP:20260423T044137
CREATED:20240112T205202Z
LAST-MODIFIED:20251231T024944Z
UID:1306-1736699400-1736706600@haridhammd.org
SUMMARY:Poshi Punam
DESCRIPTION:On this auspicious day of Poshi Punam\, Bhagwan Swaminarayan initiated Mulji Sharma\, giving him the name Gunatitanand Swami. In that moment\, Bhagwan Swaminarayan declared to all present that Gunatitanand Swami was his divine abode\, Akshardham. This event marked a transformative moment in spiritual history and set the stage for the incredible teachings and selfless service Gunatitanand Swami would offer throughout his life. His profound insights and the timeless wisdom found in his Swami ni Vaato continue to inspire and guide us today. \nWe invite you to join us in celebrating this special day\, remembering the extraordinary contributions of Gunatitanand Swami and the glory of Bhagwan Swaminarayan. Let’s come together as a community to reflect on the lasting impact of devotion\, service\, and spiritual wisdom that has shaped our faith.
URL:https://haridhammd.org/event/25poshi-punam/
LOCATION:Haridham Hindu Swaminarayan Temple\, 3589 Centennial Lane\, Ellicott City\, MD\, 21042\, United States
CATEGORIES:Event
ATTACH;FMTTYPE=image/png:https://haridhammd.org/wp-content/uploads/2025/01/Event-Graphics-for-Website.png
ORGANIZER;CN="Haridham":MAILTO:info@haridhammd.org
END:VEVENT
END:VCALENDAR